BEGIN:VCALENDAR
VERSION:2.0
PRODID:-//The Culture - ECPv6.15.12.2//NONSGML v1.0//EN
CALSCALE:GREGORIAN
METHOD:PUBLISH
X-WR-CALNAME:The Culture
X-ORIGINAL-URL:https://ourculture.us
X-WR-CALDESC:Events for The Culture
REFRESH-INTERVAL;VALUE=DURATION:PT1H
X-Robots-Tag:noindex
X-PUBLISHED-TTL:PT1H
BEGIN:VTIMEZONE
TZID:America/Chicago
BEGIN:DAYLIGHT
TZOFFSETFROM:-0600
TZOFFSETTO:-0500
TZNAME:CDT
DTSTART:20250309T080000
END:DAYLIGHT
BEGIN:STANDARD
TZOFFSETFROM:-0500
TZOFFSETTO:-0600
TZNAME:CST
DTSTART:20251102T070000
END:STANDARD
BEGIN:DAYLIGHT
TZOFFSETFROM:-0600
TZOFFSETTO:-0500
TZNAME:CDT
DTSTART:20260308T080000
END:DAYLIGHT
BEGIN:STANDARD
TZOFFSETFROM:-0500
TZOFFSETTO:-0600
TZNAME:CST
DTSTART:20261101T070000
END:STANDARD
BEGIN:DAYLIGHT
TZOFFSETFROM:-0600
TZOFFSETTO:-0500
TZNAME:CDT
DTSTART:20270314T080000
END:DAYLIGHT
BEGIN:STANDARD
TZOFFSETFROM:-0500
TZOFFSETTO:-0600
TZNAME:CST
DTSTART:20271107T070000
END:STANDARD
END:VTIMEZONE
BEGIN:VEVENT
DTSTART;TZID=America/Chicago:20260427T110000
DTEND;TZID=America/Chicago:20260427T150000
DTSTAMP:20260421T051806
CREATED:20260415T161600Z
LAST-MODIFIED:20260415T162437Z
UID:10004451-1777287600-1777302000@ourculture.us
SUMMARY:Business Services Resource Fair
DESCRIPTION:Illinois Secretary of State Alexi Giannoulias is inviting entrepreneurs\, small business owners and aspiring founders to attend the office’s first-ever free Business Services Resource Fair\, an event designed to help Illinoisans turn business ideas into real opportunities. \nHosted in partnership with state\, county and city agencies\, as well as private-sector business development organizations\, the fair will bring together the people and resources entrepreneurs need to start\, grow and sustain a successful business – all under one roof. \nThe Secretary of State’s Business Services Resource Fair will take place from 11 a.m. to 3 p.m. on April 27 at Malcolm X College – 1900 W. Jackson Blvd.\, Room 1106 – in Chicago. \n“Too many people with great ideas never get their business off the ground because the process can feel confusing\, expensive and stacked against them\,” Giannoulias said. “This fair is about cutting through the red tape\, connecting entrepreneurs with the right people and resources and giving them a real roadmap to start and grow\, turning the business they’ve been dreaming about into a reality. When we help small businesses succeed\, we’re investing in stronger communities\, more jobs and a stronger Illinois economy.” \nThe event is aimed at both first-time entrepreneurs and established small business owners looking to grow\, access capital or better understand how to navigate the system. \nAt the fair\, attendees will be able to learn how to register a business in Illinois\, apply for a state or federal tax identification number\, acquire a business license and explore funding opportunities\, including loans and grants. Participants will also receive guidance on how to do business with government agencies and connect directly with organizations that support small business growth. \nAdmission is free\, but spots are limited so registration is encouraged. To register\, visit app.smartsheet.com/b/form/019d3f4caae77ba4b6349a610a098a45. For more information\, visit www.ilsos.gov/departments/business-services.html.
URL:https://ourculture.us/event/business-services-resource-fair/
LOCATION:Malcolm X College\, 1900 W. Jackson Blvd.\, Chicago\, IL\, United States
ATTACH;FMTTYPE=image/png:https://d378omtnmsdn81.cloudfront.net/wp-content/uploads/2026/04/15111342/Screenshot-2026-04-15-111131.png
END:VEVENT
END:VCALENDAR