BEGIN:VCALENDAR
VERSION:2.0
PRODID:-//The Culture - ECPv6.15.12.2//NONSGML v1.0//EN
CALSCALE:GREGORIAN
METHOD:PUBLISH
X-WR-CALNAME:The Culture
X-ORIGINAL-URL:https://ourculture.us
X-WR-CALDESC:Events for The Culture
REFRESH-INTERVAL;VALUE=DURATION:PT1H
X-Robots-Tag:noindex
X-PUBLISHED-TTL:PT1H
BEGIN:VTIMEZONE
TZID:America/Chicago
BEGIN:DAYLIGHT
TZOFFSETFROM:-0600
TZOFFSETTO:-0500
TZNAME:CDT
DTSTART:20230312T080000
END:DAYLIGHT
BEGIN:STANDARD
TZOFFSETFROM:-0500
TZOFFSETTO:-0600
TZNAME:CST
DTSTART:20231105T070000
END:STANDARD
BEGIN:DAYLIGHT
TZOFFSETFROM:-0600
TZOFFSETTO:-0500
TZNAME:CDT
DTSTART:20240310T080000
END:DAYLIGHT
BEGIN:STANDARD
TZOFFSETFROM:-0500
TZOFFSETTO:-0600
TZNAME:CST
DTSTART:20241103T070000
END:STANDARD
BEGIN:DAYLIGHT
TZOFFSETFROM:-0600
TZOFFSETTO:-0500
TZNAME:CDT
DTSTART:20250309T080000
END:DAYLIGHT
BEGIN:STANDARD
TZOFFSETFROM:-0500
TZOFFSETTO:-0600
TZNAME:CST
DTSTART:20251102T070000
END:STANDARD
END:VTIMEZONE
BEGIN:VEVENT
DTSTART;TZID=America/Chicago:20240619T173000
DTEND;TZID=America/Chicago:20240619T210000
DTSTAMP:20260422T092209
CREATED:20240605T211003Z
LAST-MODIFIED:20240605T211224Z
UID:10000036-1718818200-1718830800@ourculture.us
SUMMARY:Chicago West Community Music Center 25th Anniversary Gala
DESCRIPTION:Helen Zell\, one of Chicago’s most dedicated music education leaders and a longtime supporter of CWCMC\, will be honored at the gala. With the theme\, “Celebrating 25 Years Uplifting Lives Through Music\,” the celebration will feature “Sweet Freedom Suite\,” an original dance suite written by Chicago West Community Music Center Executive Director Howard Sandifer with choreography by Joel Hall and a musical performance by CWCMC students. To buy tickets\, click here or contact Hoopla Communications here.
URL:https://ourculture.us/event/chicago-west-community-music-center-25th-anniversary-gala/
LOCATION:Museum Of Contemporary Art\, 220 E. Chicago Ave.\, Chicago\, IL\, United States
ATTACH;FMTTYPE=image/png:https://ourculture.us/wp-content/uploads/2024/06/Screen-Shot-2024-06-05-at-3.38.35-PM.png
ORGANIZER;CN="Chicago West Community Music Center":MAILTO:cwcmc1@sbcglobal.net
END:VEVENT
END:VCALENDAR