BEGIN:VCALENDAR
VERSION:2.0
PRODID:-//The Culture - ECPv6.15.12.2//NONSGML v1.0//EN
CALSCALE:GREGORIAN
METHOD:PUBLISH
X-WR-CALNAME:The Culture
X-ORIGINAL-URL:https://ourculture.us
X-WR-CALDESC:Events for The Culture
REFRESH-INTERVAL;VALUE=DURATION:PT1H
X-Robots-Tag:noindex
X-PUBLISHED-TTL:PT1H
BEGIN:VTIMEZONE
TZID:America/Chicago
BEGIN:DAYLIGHT
TZOFFSETFROM:-0600
TZOFFSETTO:-0500
TZNAME:CDT
DTSTART:20250309T080000
END:DAYLIGHT
BEGIN:STANDARD
TZOFFSETFROM:-0500
TZOFFSETTO:-0600
TZNAME:CST
DTSTART:20251102T070000
END:STANDARD
BEGIN:DAYLIGHT
TZOFFSETFROM:-0600
TZOFFSETTO:-0500
TZNAME:CDT
DTSTART:20260308T080000
END:DAYLIGHT
BEGIN:STANDARD
TZOFFSETFROM:-0500
TZOFFSETTO:-0600
TZNAME:CST
DTSTART:20261101T070000
END:STANDARD
BEGIN:DAYLIGHT
TZOFFSETFROM:-0600
TZOFFSETTO:-0500
TZNAME:CDT
DTSTART:20270314T080000
END:DAYLIGHT
BEGIN:STANDARD
TZOFFSETFROM:-0500
TZOFFSETTO:-0600
TZNAME:CST
DTSTART:20271107T070000
END:STANDARD
END:VTIMEZONE
BEGIN:VEVENT
DTSTART;TZID=America/Chicago:20260428T180000
DTEND;TZID=America/Chicago:20260428T200000
DTSTAMP:20260424T052620
CREATED:20260415T165740Z
LAST-MODIFIED:20260415T165740Z
UID:10004454-1777399200-1777406400@ourculture.us
SUMMARY:Community Mural Listening Session
DESCRIPTION:Join us for the Community Mural Listening Session and help shape the vision for a new mural coming to The Cubes at Roosevelt & Kostner. This is your chance to share your ideas\, stories\, and values that should be reflected in this artwork.\n\n\n In-Person: Tuesday\, April 28 | 6 PM\n Fillmore Center — 4100 W. Fillmore St.\n Virtual: Wednesday\, April 29 | 6 PM\n Zoom ID: 996 2693 6748 | Passcode: 685034\n\n\nArt is a powerful way to tell our stories — let’s make sure our community’s voice is heard. Hope to see you there!
URL:https://ourculture.us/event/community-mural-listening-session/2026-04-28/
LOCATION:Filmore Center\, 4100 W. Filmore Street\, Chicago\, IL\, 60624\, United States
ATTACH;FMTTYPE=image/jpeg:https://d378omtnmsdn81.cloudfront.net/wp-content/uploads/2026/04/15115703/658639004_18586030360056414_6125595612161292521_n.jpg
END:VEVENT
BEGIN:VEVENT
DTSTART;TZID=America/Chicago:20260429T180000
DTEND;TZID=America/Chicago:20260429T200000
DTSTAMP:20260424T052620
CREATED:20260415T165740Z
LAST-MODIFIED:20260415T165740Z
UID:10004455-1777485600-1777492800@ourculture.us
SUMMARY:Community Mural Listening Session
DESCRIPTION:Join us for the Community Mural Listening Session and help shape the vision for a new mural coming to The Cubes at Roosevelt & Kostner. This is your chance to share your ideas\, stories\, and values that should be reflected in this artwork.\n\n\n In-Person: Tuesday\, April 28 | 6 PM\n Fillmore Center — 4100 W. Fillmore St.\n Virtual: Wednesday\, April 29 | 6 PM\n Zoom ID: 996 2693 6748 | Passcode: 685034\n\n\nArt is a powerful way to tell our stories — let’s make sure our community’s voice is heard. Hope to see you there!
URL:https://ourculture.us/event/community-mural-listening-session/2026-04-29/
LOCATION:Filmore Center\, 4100 W. Filmore Street\, Chicago\, IL\, 60624\, United States
ATTACH;FMTTYPE=image/jpeg:https://d378omtnmsdn81.cloudfront.net/wp-content/uploads/2026/04/15115703/658639004_18586030360056414_6125595612161292521_n.jpg
END:VEVENT
END:VCALENDAR