BEGIN:VCALENDAR
VERSION:2.0
PRODID:-//The Culture - ECPv6.15.12.2//NONSGML v1.0//EN
CALSCALE:GREGORIAN
METHOD:PUBLISH
X-WR-CALNAME:The Culture
X-ORIGINAL-URL:https://ourculture.us
X-WR-CALDESC:Events for The Culture
REFRESH-INTERVAL;VALUE=DURATION:PT1H
X-Robots-Tag:noindex
X-PUBLISHED-TTL:PT1H
BEGIN:VTIMEZONE
TZID:America/Chicago
BEGIN:DAYLIGHT
TZOFFSETFROM:-0600
TZOFFSETTO:-0500
TZNAME:CDT
DTSTART:20250309T080000
END:DAYLIGHT
BEGIN:STANDARD
TZOFFSETFROM:-0500
TZOFFSETTO:-0600
TZNAME:CST
DTSTART:20251102T070000
END:STANDARD
BEGIN:DAYLIGHT
TZOFFSETFROM:-0600
TZOFFSETTO:-0500
TZNAME:CDT
DTSTART:20260308T080000
END:DAYLIGHT
BEGIN:STANDARD
TZOFFSETFROM:-0500
TZOFFSETTO:-0600
TZNAME:CST
DTSTART:20261101T070000
END:STANDARD
BEGIN:DAYLIGHT
TZOFFSETFROM:-0600
TZOFFSETTO:-0500
TZNAME:CDT
DTSTART:20270314T080000
END:DAYLIGHT
BEGIN:STANDARD
TZOFFSETFROM:-0500
TZOFFSETTO:-0600
TZNAME:CST
DTSTART:20271107T070000
END:STANDARD
END:VTIMEZONE
BEGIN:VEVENT
DTSTART;TZID=America/Chicago:20260420T153000
DTEND;TZID=America/Chicago:20260420T173000
DTSTAMP:20260420T042324
CREATED:20260414T171632Z
LAST-MODIFIED:20260414T171632Z
UID:10004377-1776699000-1776706200@ourculture.us
SUMMARY:We Who Create: A Healing & Mentorship Journey in the Arts
DESCRIPTION:We Who Create: A Healing & Mentorship Journey in the Arts\, a partnership between the KCAF and YourPassion1st (YP1). This program supports students ages 10–13 through arts workshops\, mentorship\, and social-emotional learning. Sessions are held Mondays from 3:30–5:30 PM at Catalyst Elementary. \nClick here to register.
URL:https://ourculture.us/event/we-who-create-a-healing-mentorship-journey-in-the-arts/2026-04-20/
LOCATION:Catalyst Elementary (Catalyst Circle Rock Charter School)\, 5608 W. Washington Blvd.\, Chicago\, IL\, 60644\, United States
ATTACH;FMTTYPE=image/png:https://d378omtnmsdn81.cloudfront.net/wp-content/uploads/2026/04/14121009/309059104_420388723565231_1999943277744465263_n.png
END:VEVENT
BEGIN:VEVENT
DTSTART;TZID=America/Chicago:20260427T153000
DTEND;TZID=America/Chicago:20260427T173000
DTSTAMP:20260420T042324
CREATED:20260414T171632Z
LAST-MODIFIED:20260414T171632Z
UID:10004378-1777303800-1777311000@ourculture.us
SUMMARY:We Who Create: A Healing & Mentorship Journey in the Arts
DESCRIPTION:We Who Create: A Healing & Mentorship Journey in the Arts\, a partnership between the KCAF and YourPassion1st (YP1). This program supports students ages 10–13 through arts workshops\, mentorship\, and social-emotional learning. Sessions are held Mondays from 3:30–5:30 PM at Catalyst Elementary. \nClick here to register.
URL:https://ourculture.us/event/we-who-create-a-healing-mentorship-journey-in-the-arts/2026-04-27/
LOCATION:Catalyst Elementary (Catalyst Circle Rock Charter School)\, 5608 W. Washington Blvd.\, Chicago\, IL\, 60644\, United States
ATTACH;FMTTYPE=image/png:https://d378omtnmsdn81.cloudfront.net/wp-content/uploads/2026/04/14121009/309059104_420388723565231_1999943277744465263_n.png
END:VEVENT
BEGIN:VEVENT
DTSTART;TZID=America/Chicago:20260504T153000
DTEND;TZID=America/Chicago:20260504T173000
DTSTAMP:20260420T042324
CREATED:20260414T171632Z
LAST-MODIFIED:20260414T171632Z
UID:10004379-1777908600-1777915800@ourculture.us
SUMMARY:We Who Create: A Healing & Mentorship Journey in the Arts
DESCRIPTION:We Who Create: A Healing & Mentorship Journey in the Arts\, a partnership between the KCAF and YourPassion1st (YP1). This program supports students ages 10–13 through arts workshops\, mentorship\, and social-emotional learning. Sessions are held Mondays from 3:30–5:30 PM at Catalyst Elementary. \nClick here to register.
URL:https://ourculture.us/event/we-who-create-a-healing-mentorship-journey-in-the-arts/2026-05-04/
LOCATION:Catalyst Elementary (Catalyst Circle Rock Charter School)\, 5608 W. Washington Blvd.\, Chicago\, IL\, 60644\, United States
ATTACH;FMTTYPE=image/png:https://d378omtnmsdn81.cloudfront.net/wp-content/uploads/2026/04/14121009/309059104_420388723565231_1999943277744465263_n.png
END:VEVENT
BEGIN:VEVENT
DTSTART;TZID=America/Chicago:20260511T153000
DTEND;TZID=America/Chicago:20260511T173000
DTSTAMP:20260420T042324
CREATED:20260414T171632Z
LAST-MODIFIED:20260414T171632Z
UID:10004380-1778513400-1778520600@ourculture.us
SUMMARY:We Who Create: A Healing & Mentorship Journey in the Arts
DESCRIPTION:We Who Create: A Healing & Mentorship Journey in the Arts\, a partnership between the KCAF and YourPassion1st (YP1). This program supports students ages 10–13 through arts workshops\, mentorship\, and social-emotional learning. Sessions are held Mondays from 3:30–5:30 PM at Catalyst Elementary. \nClick here to register.
URL:https://ourculture.us/event/we-who-create-a-healing-mentorship-journey-in-the-arts/2026-05-11/
LOCATION:Catalyst Elementary (Catalyst Circle Rock Charter School)\, 5608 W. Washington Blvd.\, Chicago\, IL\, 60644\, United States
ATTACH;FMTTYPE=image/png:https://d378omtnmsdn81.cloudfront.net/wp-content/uploads/2026/04/14121009/309059104_420388723565231_1999943277744465263_n.png
END:VEVENT
BEGIN:VEVENT
DTSTART;TZID=America/Chicago:20260518T153000
DTEND;TZID=America/Chicago:20260518T173000
DTSTAMP:20260420T042324
CREATED:20260414T171632Z
LAST-MODIFIED:20260414T171632Z
UID:10004381-1779118200-1779125400@ourculture.us
SUMMARY:We Who Create: A Healing & Mentorship Journey in the Arts
DESCRIPTION:We Who Create: A Healing & Mentorship Journey in the Arts\, a partnership between the KCAF and YourPassion1st (YP1). This program supports students ages 10–13 through arts workshops\, mentorship\, and social-emotional learning. Sessions are held Mondays from 3:30–5:30 PM at Catalyst Elementary. \nClick here to register.
URL:https://ourculture.us/event/we-who-create-a-healing-mentorship-journey-in-the-arts/2026-05-18/
LOCATION:Catalyst Elementary (Catalyst Circle Rock Charter School)\, 5608 W. Washington Blvd.\, Chicago\, IL\, 60644\, United States
ATTACH;FMTTYPE=image/png:https://d378omtnmsdn81.cloudfront.net/wp-content/uploads/2026/04/14121009/309059104_420388723565231_1999943277744465263_n.png
END:VEVENT
BEGIN:VEVENT
DTSTART;TZID=America/Chicago:20260525T153000
DTEND;TZID=America/Chicago:20260525T173000
DTSTAMP:20260420T042324
CREATED:20260414T171632Z
LAST-MODIFIED:20260414T171632Z
UID:10004382-1779723000-1779730200@ourculture.us
SUMMARY:We Who Create: A Healing & Mentorship Journey in the Arts
DESCRIPTION:We Who Create: A Healing & Mentorship Journey in the Arts\, a partnership between the KCAF and YourPassion1st (YP1). This program supports students ages 10–13 through arts workshops\, mentorship\, and social-emotional learning. Sessions are held Mondays from 3:30–5:30 PM at Catalyst Elementary. \nClick here to register.
URL:https://ourculture.us/event/we-who-create-a-healing-mentorship-journey-in-the-arts/2026-05-25/
LOCATION:Catalyst Elementary (Catalyst Circle Rock Charter School)\, 5608 W. Washington Blvd.\, Chicago\, IL\, 60644\, United States
ATTACH;FMTTYPE=image/png:https://d378omtnmsdn81.cloudfront.net/wp-content/uploads/2026/04/14121009/309059104_420388723565231_1999943277744465263_n.png
END:VEVENT
BEGIN:VEVENT
DTSTART;TZID=America/Chicago:20260601T153000
DTEND;TZID=America/Chicago:20260601T173000
DTSTAMP:20260420T042324
CREATED:20260414T171632Z
LAST-MODIFIED:20260414T171632Z
UID:10004383-1780327800-1780335000@ourculture.us
SUMMARY:We Who Create: A Healing & Mentorship Journey in the Arts
DESCRIPTION:We Who Create: A Healing & Mentorship Journey in the Arts\, a partnership between the KCAF and YourPassion1st (YP1). This program supports students ages 10–13 through arts workshops\, mentorship\, and social-emotional learning. Sessions are held Mondays from 3:30–5:30 PM at Catalyst Elementary. \nClick here to register.
URL:https://ourculture.us/event/we-who-create-a-healing-mentorship-journey-in-the-arts/2026-06-01/
LOCATION:Catalyst Elementary (Catalyst Circle Rock Charter School)\, 5608 W. Washington Blvd.\, Chicago\, IL\, 60644\, United States
ATTACH;FMTTYPE=image/png:https://d378omtnmsdn81.cloudfront.net/wp-content/uploads/2026/04/14121009/309059104_420388723565231_1999943277744465263_n.png
END:VEVENT
BEGIN:VEVENT
DTSTART;TZID=America/Chicago:20260608T153000
DTEND;TZID=America/Chicago:20260608T173000
DTSTAMP:20260420T042324
CREATED:20260414T171632Z
LAST-MODIFIED:20260414T171632Z
UID:10004384-1780932600-1780939800@ourculture.us
SUMMARY:We Who Create: A Healing & Mentorship Journey in the Arts
DESCRIPTION:We Who Create: A Healing & Mentorship Journey in the Arts\, a partnership between the KCAF and YourPassion1st (YP1). This program supports students ages 10–13 through arts workshops\, mentorship\, and social-emotional learning. Sessions are held Mondays from 3:30–5:30 PM at Catalyst Elementary. \nClick here to register.
URL:https://ourculture.us/event/we-who-create-a-healing-mentorship-journey-in-the-arts/2026-06-08/
LOCATION:Catalyst Elementary (Catalyst Circle Rock Charter School)\, 5608 W. Washington Blvd.\, Chicago\, IL\, 60644\, United States
ATTACH;FMTTYPE=image/png:https://d378omtnmsdn81.cloudfront.net/wp-content/uploads/2026/04/14121009/309059104_420388723565231_1999943277744465263_n.png
END:VEVENT
BEGIN:VEVENT
DTSTART;TZID=America/Chicago:20260615T153000
DTEND;TZID=America/Chicago:20260615T173000
DTSTAMP:20260420T042324
CREATED:20260414T171632Z
LAST-MODIFIED:20260414T171632Z
UID:10004385-1781537400-1781544600@ourculture.us
SUMMARY:We Who Create: A Healing & Mentorship Journey in the Arts
DESCRIPTION:We Who Create: A Healing & Mentorship Journey in the Arts\, a partnership between the KCAF and YourPassion1st (YP1). This program supports students ages 10–13 through arts workshops\, mentorship\, and social-emotional learning. Sessions are held Mondays from 3:30–5:30 PM at Catalyst Elementary. \nClick here to register.
URL:https://ourculture.us/event/we-who-create-a-healing-mentorship-journey-in-the-arts/2026-06-15/
LOCATION:Catalyst Elementary (Catalyst Circle Rock Charter School)\, 5608 W. Washington Blvd.\, Chicago\, IL\, 60644\, United States
ATTACH;FMTTYPE=image/png:https://d378omtnmsdn81.cloudfront.net/wp-content/uploads/2026/04/14121009/309059104_420388723565231_1999943277744465263_n.png
END:VEVENT
BEGIN:VEVENT
DTSTART;TZID=America/Chicago:20260622T153000
DTEND;TZID=America/Chicago:20260622T173000
DTSTAMP:20260420T042324
CREATED:20260414T171632Z
LAST-MODIFIED:20260414T171632Z
UID:10004386-1782142200-1782149400@ourculture.us
SUMMARY:We Who Create: A Healing & Mentorship Journey in the Arts
DESCRIPTION:We Who Create: A Healing & Mentorship Journey in the Arts\, a partnership between the KCAF and YourPassion1st (YP1). This program supports students ages 10–13 through arts workshops\, mentorship\, and social-emotional learning. Sessions are held Mondays from 3:30–5:30 PM at Catalyst Elementary. \nClick here to register.
URL:https://ourculture.us/event/we-who-create-a-healing-mentorship-journey-in-the-arts/2026-06-22/
LOCATION:Catalyst Elementary (Catalyst Circle Rock Charter School)\, 5608 W. Washington Blvd.\, Chicago\, IL\, 60644\, United States
ATTACH;FMTTYPE=image/png:https://d378omtnmsdn81.cloudfront.net/wp-content/uploads/2026/04/14121009/309059104_420388723565231_1999943277744465263_n.png
END:VEVENT
BEGIN:VEVENT
DTSTART;TZID=America/Chicago:20260629T153000
DTEND;TZID=America/Chicago:20260629T173000
DTSTAMP:20260420T042324
CREATED:20260414T171632Z
LAST-MODIFIED:20260414T171632Z
UID:10004387-1782747000-1782754200@ourculture.us
SUMMARY:We Who Create: A Healing & Mentorship Journey in the Arts
DESCRIPTION:We Who Create: A Healing & Mentorship Journey in the Arts\, a partnership between the KCAF and YourPassion1st (YP1). This program supports students ages 10–13 through arts workshops\, mentorship\, and social-emotional learning. Sessions are held Mondays from 3:30–5:30 PM at Catalyst Elementary. \nClick here to register.
URL:https://ourculture.us/event/we-who-create-a-healing-mentorship-journey-in-the-arts/2026-06-29/
LOCATION:Catalyst Elementary (Catalyst Circle Rock Charter School)\, 5608 W. Washington Blvd.\, Chicago\, IL\, 60644\, United States
ATTACH;FMTTYPE=image/png:https://d378omtnmsdn81.cloudfront.net/wp-content/uploads/2026/04/14121009/309059104_420388723565231_1999943277744465263_n.png
END:VEVENT
END:VCALENDAR