BEGIN:VCALENDAR
VERSION:2.0
PRODID:-//The Culture - ECPv6.15.12.2//NONSGML v1.0//EN
CALSCALE:GREGORIAN
METHOD:PUBLISH
X-ORIGINAL-URL:https://ourculture.us
X-WR-CALDESC:Events for The Culture
REFRESH-INTERVAL;VALUE=DURATION:PT1H
X-Robots-Tag:noindex
X-PUBLISHED-TTL:PT1H
BEGIN:VTIMEZONE
TZID:America/Chicago
BEGIN:DAYLIGHT
TZOFFSETFROM:-0600
TZOFFSETTO:-0500
TZNAME:CDT
DTSTART:20250309T080000
END:DAYLIGHT
BEGIN:STANDARD
TZOFFSETFROM:-0500
TZOFFSETTO:-0600
TZNAME:CST
DTSTART:20251102T070000
END:STANDARD
BEGIN:DAYLIGHT
TZOFFSETFROM:-0600
TZOFFSETTO:-0500
TZNAME:CDT
DTSTART:20260308T080000
END:DAYLIGHT
BEGIN:STANDARD
TZOFFSETFROM:-0500
TZOFFSETTO:-0600
TZNAME:CST
DTSTART:20261101T070000
END:STANDARD
BEGIN:DAYLIGHT
TZOFFSETFROM:-0600
TZOFFSETTO:-0500
TZNAME:CDT
DTSTART:20270314T080000
END:DAYLIGHT
BEGIN:STANDARD
TZOFFSETFROM:-0500
TZOFFSETTO:-0600
TZNAME:CST
DTSTART:20271107T070000
END:STANDARD
END:VTIMEZONE
BEGIN:VEVENT
DTSTART;TZID=America/Chicago:20260424T090000
DTEND;TZID=America/Chicago:20260424T150000
DTSTAMP:20260424T035553
CREATED:20260410T215035Z
LAST-MODIFIED:20260410T225605Z
UID:10004371-1777021200-1777042800@ourculture.us
SUMMARY:We Are Our Own Medicine GVP Conference 2026
DESCRIPTION: is the Strengthening Ourselves to Heal Community Gun-Violence Prevention Conference. The conference includes awareness\, healing\, prevention\, leadership\, and training. Attendees will hear from their leaders\, community stakeholders\, elected officials\, faith leaders\, and our youth. Click here to register and learn more. Interested in a collaborative sponsorship? Learn more here.
URL:https://ourculture.us/event/we-are-our-own-medicine-gvp-conference-2026/2026-04-24/
LOCATION:New Life Covenant HP\, 3400 W. Division\, Chicago\, IL\, 60651\, United States
ATTACH;FMTTYPE=image/png:https://d378omtnmsdn81.cloudfront.net/wp-content/uploads/2026/04/10164957/We-Are-Our-Own-Medicine-GVP-Conference-2026.png
ORGANIZER;CN="We are our own medicine":MAILTO:Alees.Edwards@cityofchicago.org
END:VEVENT
BEGIN:VEVENT
DTSTART;TZID=America/Chicago:20260424T180000
DTEND;TZID=America/Chicago:20260424T220000
DTSTAMP:20260424T035553
CREATED:20260423T194949Z
LAST-MODIFIED:20260423T194949Z
UID:10004465-1777053600-1777068000@ourculture.us
SUMMARY:ROOTED - Film Screening & Community Conversation
DESCRIPTION:Presented as part of the One Earth Film Festival.  A night exploring food ecosystems\, environmental justice\, and urban agriculture.
URL:https://ourculture.us/event/rooted-film-screening-community-conversation/
LOCATION:Bethel New Life\, 1150 N. Lamon Ave.\, Chicago\, IL\, United States
ATTACH;FMTTYPE=image/jpeg:https://d378omtnmsdn81.cloudfront.net/wp-content/uploads/2026/04/23144927/671105814_18103956955942762_385679339113842305_n.jpg
END:VEVENT
BEGIN:VEVENT
DTSTART;TZID=America/Chicago:20260425T100000
DTEND;TZID=America/Chicago:20260425T110000
DTSTAMP:20260424T035553
CREATED:20260423T192259Z
LAST-MODIFIED:20260423T192259Z
UID:10004459-1777111200-1777114800@ourculture.us
SUMMARY:Yoga at the Library: Austin Branch
DESCRIPTION:Breathe In\, Stretch Out\, Let Go \nJoin us for Yoga at the Library at the Austin Branch on 4th Saturdays at 10 a.m.\, led by Collective Yoga Co-op instructors. This class is for all levels
URL:https://ourculture.us/event/yoga-at-the-library-austin-branch/2026-04-25/
LOCATION:Austin Branch Library\, 5615 W. Race Ave.\, Chicago\, IL\, United States
ATTACH;FMTTYPE=image/jpeg:https://d378omtnmsdn81.cloudfront.net/wp-content/uploads/2026/04/23141937/kike-vega-F2qh3yjz6Jk-unsplash.jpg
END:VEVENT
BEGIN:VEVENT
DTSTART;TZID=America/Chicago:20260425T100000
DTEND;TZID=America/Chicago:20260425T150000
DTSTAMP:20260424T035553
CREATED:20260423T183151Z
LAST-MODIFIED:20260423T183151Z
UID:10004457-1777111200-1777129200@ourculture.us
SUMMARY:WECYCLE LLC 6th Annual Austin Village Spring Cleaning Rally
DESCRIPTION:Let’s bring beauty and unity\, to resurrect the community! \nStarting point\n(meet up begins at 10 a.m.)\nRally start time at 11:00 a.m.\n5922 W. Division St.\n(Honorary Lela Spann Dr) \nFinishing point\n5840 W. Chicago Ave (Soul City) \nFREE FOOD & DRINKS\nLIVE DJ\nKID ACTIVTIES\nPRIZE GIVEAWAYS\nGIFTS OF APPRECIATION
URL:https://ourculture.us/event/wecycle-llc-6th-annual-austin-village-spring-cleaning-rally/
LOCATION:Honorary Lela Spann Dr\, 5922 W. Division St.\, Chicago\, Illinois\, 60651
ATTACH;FMTTYPE=image/png:https://d378omtnmsdn81.cloudfront.net/wp-content/uploads/2026/04/23133109/WeCycle-Cleaning-Rally.png
ORGANIZER;CN="WECYCLE LLC":MAILTO:david@wecyclellc.com
END:VEVENT
BEGIN:VEVENT
DTSTART;TZID=America/Chicago:20260426T170000
DTEND;TZID=America/Chicago:20260426T220000
DTSTAMP:20260424T035553
CREATED:20260423T200038Z
LAST-MODIFIED:20260423T200038Z
UID:10004466-1777222800-1777240800@ourculture.us
SUMMARY:The 100+ West Side Women of Wisdom - 7th Annual Recognition Gala
DESCRIPTION:7th Annual Recognition Gala \n\n\n\nWe are honored to invite you to the 7th Annual West Side Women of Wisdom and Inspiration Recognition Dinner! This year’s theme\, “A legacy in Burgundy “celebrates the extraordinary women of Chicago’s West Side who uplift their communities through leadership\, perseverance\, and service. \nThis special event will honor 100+ phenomenal women who have made a lasting impact in their fields and communities. Prepare to be moved by their powerful stories of resilience and achievement while enjoying a night of recognition\, networking\, and celebration.
URL:https://ourculture.us/event/the-100-west-side-women-of-wisdom-7th-annual-recognition-gala/
LOCATION:Drury Lane\, 100 Drury Lane\, Oakbrook Terrace\, IL\, 60181\, United States
ATTACH;FMTTYPE=image/webp:https://d378omtnmsdn81.cloudfront.net/wp-content/uploads/2026/04/23145534/c91d73f6-d606-4718-a707-b04d69c9c862.webp
ORGANIZER;CN="The 100+ West Side Women of Wisdom":MAILTO:deborah@dwprovision.com
END:VEVENT
BEGIN:VEVENT
DTSTART;TZID=America/Chicago:20260427T110000
DTEND;TZID=America/Chicago:20260427T150000
DTSTAMP:20260424T035553
CREATED:20260415T161600Z
LAST-MODIFIED:20260415T162437Z
UID:10004451-1777287600-1777302000@ourculture.us
SUMMARY:Business Services Resource Fair
DESCRIPTION:Illinois Secretary of State Alexi Giannoulias is inviting entrepreneurs\, small business owners and aspiring founders to attend the office’s first-ever free Business Services Resource Fair\, an event designed to help Illinoisans turn business ideas into real opportunities. \nHosted in partnership with state\, county and city agencies\, as well as private-sector business development organizations\, the fair will bring together the people and resources entrepreneurs need to start\, grow and sustain a successful business – all under one roof. \nThe Secretary of State’s Business Services Resource Fair will take place from 11 a.m. to 3 p.m. on April 27 at Malcolm X College – 1900 W. Jackson Blvd.\, Room 1106 – in Chicago. \n“Too many people with great ideas never get their business off the ground because the process can feel confusing\, expensive and stacked against them\,” Giannoulias said. “This fair is about cutting through the red tape\, connecting entrepreneurs with the right people and resources and giving them a real roadmap to start and grow\, turning the business they’ve been dreaming about into a reality. When we help small businesses succeed\, we’re investing in stronger communities\, more jobs and a stronger Illinois economy.” \nThe event is aimed at both first-time entrepreneurs and established small business owners looking to grow\, access capital or better understand how to navigate the system. \nAt the fair\, attendees will be able to learn how to register a business in Illinois\, apply for a state or federal tax identification number\, acquire a business license and explore funding opportunities\, including loans and grants. Participants will also receive guidance on how to do business with government agencies and connect directly with organizations that support small business growth. \nAdmission is free\, but spots are limited so registration is encouraged. To register\, visit app.smartsheet.com/b/form/019d3f4caae77ba4b6349a610a098a45. For more information\, visit www.ilsos.gov/departments/business-services.html.
URL:https://ourculture.us/event/business-services-resource-fair/
LOCATION:Malcolm X College\, 1900 W. Jackson Blvd.\, Chicago\, IL\, United States
ATTACH;FMTTYPE=image/png:https://d378omtnmsdn81.cloudfront.net/wp-content/uploads/2026/04/15111342/Screenshot-2026-04-15-111131.png
END:VEVENT
BEGIN:VEVENT
DTSTART;TZID=America/Chicago:20260428T180000
DTEND;TZID=America/Chicago:20260428T200000
DTSTAMP:20260424T035553
CREATED:20260415T164133Z
LAST-MODIFIED:20260415T164133Z
UID:10004453-1777399200-1777406400@ourculture.us
SUMMARY:Chicago to the World: A Jazz Celebration
DESCRIPTION:Join us to celebrate the 15th Annual International Jazz Day with a neighborhood Jazz night! \nChicago West Community Music Center will showcase an intergenerational performance that highlights the roots and development of Jazz in Chicago\, and its influence around the world. \nEvent details: \nThis concert will take place on Tuesday\, April 28 from 6:00pm to 7:30pm* \nTickets are free and pre-registration is required. Donations welcome! \nLimit 2 tickets per order. \n* Please note that the concert will take place while the Conservatory is closed to the general public. \nAccommodations: If you’d like to request accommodations\, please contact access@garfieldpark.org. On the registration form\, there is also a spot to indicate if you’d like to request an accommodation. Please submit requests at least 72 hours prior to the start of the program. \nClick here to learn more about the Chicago West Community Music Center.
URL:https://ourculture.us/event/chicago-to-the-world-a-jazz-celebration/
LOCATION:Garfield Park Conservatory\, 300 N. Central Park Ave.\, Chicago\, IL\, United States
ATTACH;FMTTYPE=image/png:https://d378omtnmsdn81.cloudfront.net/wp-content/uploads/2026/04/15114115/wordpress_jazz-day-4.28.26_adult-programs2.png
ORGANIZER;CN="Chicago West Community Music Center":MAILTO:cwcmc1@sbcglobal.net
END:VEVENT
BEGIN:VEVENT
DTSTART;TZID=America/Chicago:20260428T180000
DTEND;TZID=America/Chicago:20260428T200000
DTSTAMP:20260424T035553
CREATED:20260415T165740Z
LAST-MODIFIED:20260415T165740Z
UID:10004454-1777399200-1777406400@ourculture.us
SUMMARY:Community Mural Listening Session
DESCRIPTION:Join us for the Community Mural Listening Session and help shape the vision for a new mural coming to The Cubes at Roosevelt & Kostner. This is your chance to share your ideas\, stories\, and values that should be reflected in this artwork.\n\n\n In-Person: Tuesday\, April 28 | 6 PM\n Fillmore Center — 4100 W. Fillmore St.\n Virtual: Wednesday\, April 29 | 6 PM\n Zoom ID: 996 2693 6748 | Passcode: 685034\n\n\nArt is a powerful way to tell our stories — let’s make sure our community’s voice is heard. Hope to see you there!
URL:https://ourculture.us/event/community-mural-listening-session/2026-04-28/
LOCATION:Filmore Center\, 4100 W. Filmore Street\, Chicago\, IL\, 60624\, United States
ATTACH;FMTTYPE=image/jpeg:https://d378omtnmsdn81.cloudfront.net/wp-content/uploads/2026/04/15115703/658639004_18586030360056414_6125595612161292521_n.jpg
END:VEVENT
BEGIN:VEVENT
DTSTART;TZID=America/Chicago:20260429T180000
DTEND;TZID=America/Chicago:20260429T200000
DTSTAMP:20260424T035553
CREATED:20260415T163352Z
LAST-MODIFIED:20260415T163352Z
UID:10004452-1777485600-1777492800@ourculture.us
SUMMARY:Affordability Town Hall With Speaker Welch
DESCRIPTION:On April 29th\, 6-8 PM at Westchester Village Hall (10300 W Roosevelt Rd.) I will be hosting an Affordability Town Hall to keep you in the loop about what I’m getting done in Springfield this legislative session. I look forward to seeing you there.\n\n\nRegistration required. Register at: https://hubs.la/Q048mKfd0
URL:https://ourculture.us/event/affordability-town-hall-with-speaker-welch/
LOCATION:Westchester Village Hall\, 10300 W Roosevelt Rd.\, Westchester\, 60154\, United States
ATTACH;FMTTYPE=image/jpeg:https://d378omtnmsdn81.cloudfront.net/wp-content/uploads/2026/04/15113325/668980595_1333013101982455_5610206244660119458_n.jpg
END:VEVENT
BEGIN:VEVENT
DTSTART;TZID=America/Chicago:20260430T120000
DTEND;TZID=America/Chicago:20260430T150000
DTSTAMP:20260424T035553
CREATED:20260415T170853Z
LAST-MODIFIED:20260415T170853Z
UID:10004456-1777550400-1777561200@ourculture.us
SUMMARY:Renovation Kickoff Ceremony
DESCRIPTION:Maywood Fine Arts is thrilled to invite you to our upcoming Renovation Kickoff Ceremony on Thursday\, April 30\, at 12PM! \nThis ceremony will officially mark the start of comprehensive renovations to revitalize our historic Fine Arts building at the corner of 5th Ave & Lake St over the summer.   \nMore details will be shared at the ceremony\, but you can expect: \n\n\nA first look at our new building floor plans and renderings \n\n\nLight refreshments and mingling with staff/stakeholders \n\n\nA walkthrough of the building \n\n\nPlease RSVP HERE by Friday\, April 24th. \nWe have BIG DREAMS for our community and can’t wait to share them with you!
URL:https://ourculture.us/event/renovation-kickoff-ceremony/
LOCATION:Maywood Fine Arts\, 25 N 5th Ave.\, Maywood\, 60153\, United States
ATTACH;FMTTYPE=image/jpeg:https://d378omtnmsdn81.cloudfront.net/wp-content/uploads/2026/04/15120321/f8b02911-5195-4184-a342-99b58c376d4c.jpg
END:VEVENT
BEGIN:VEVENT
DTSTART;TZID=America/Chicago:20260501T130000
DTEND;TZID=America/Chicago:20260501T160000
DTSTAMP:20260424T035553
CREATED:20260423T193534Z
LAST-MODIFIED:20260423T193534Z
UID:10004464-1777640400-1777651200@ourculture.us
SUMMARY:Law Day / May Day Community Resource Fair
DESCRIPTION:Join us at the Freedom Defense Center of Austin for a resource fair on National Law Day. Together with partner organizations. We will provide free legal resources and services. \nPlease RSVP by emailing fdca@cookountyil.gov or by calling 312-738-7399.
URL:https://ourculture.us/event/law-day-may-day-community-resource-fair/
LOCATION:Freedom Defense Center of Austin\, 5500 W. Madison St.\, Chicago\, IL\, United States
ATTACH;FMTTYPE=image/png:https://d378omtnmsdn81.cloudfront.net/wp-content/uploads/2026/04/23143154/Resource-Fair-Website-Graphic_0.png
ORGANIZER;CN="Freedom Defense Center of Austin":MAILTO:fdca@cookountyil.gov
END:VEVENT
BEGIN:VEVENT
DTSTART;TZID=America/Chicago:20260502T100000
DTEND;TZID=America/Chicago:20260502T120000
DTSTAMP:20260424T035553
CREATED:20260423T184013Z
LAST-MODIFIED:20260423T184013Z
UID:10004458-1777716000-1777723200@ourculture.us
SUMMARY:Estate Planning Seminar
DESCRIPTION:Presenter\nAttorney Ted London\nTed London & Associates\nTed London & Associates\n1718 E. 87th St.\, Chicago\, IL 60617\n773.721.3333
URL:https://ourculture.us/event/estate-planning-seminar/
LOCATION:Legler Regional Library\, 115 S. Pulaski Rd.\, Chicago\, IL\, United States
ATTACH;FMTTYPE=image/png:https://d378omtnmsdn81.cloudfront.net/wp-content/uploads/2026/04/23133817/870116717.png
END:VEVENT
BEGIN:VEVENT
DTSTART;TZID=America/Chicago:20260502T120000
DTEND;TZID=America/Chicago:20260502T150000
DTSTAMP:20260424T035553
CREATED:20260415T150602Z
LAST-MODIFIED:20260415T150602Z
UID:10004448-1777723200-1777734000@ourculture.us
SUMMARY:Mental Health Experience
DESCRIPTION:Food. Conversation. Healing. Community. All are welcome.\nTake a step toward better mental well-being. This FREE workshop is designed to provide tools\, support\, and community for anyone looking to improve their mental health.
URL:https://ourculture.us/event/mental-health-experience/
LOCATION:Rutues Center\, 5044 W Madison St.\, Chicago\, IL\, 60644\, United States
ATTACH;FMTTYPE=image/jpeg:https://d378omtnmsdn81.cloudfront.net/wp-content/uploads/2026/04/15100548/672680482_10105151956514730_3814977364019408308_n.jpg
END:VEVENT
BEGIN:VEVENT
DTSTART;TZID=America/Chicago:20260502T150000
DTEND;TZID=America/Chicago:20260502T190000
DTSTAMP:20260424T035553
CREATED:20260414T165300Z
LAST-MODIFIED:20260414T165300Z
UID:10004376-1777734000-1777748400@ourculture.us
SUMMARY:The Velvet Bloom Tea\, ​A Women’s Wellness Fundraiser at A House in Austin
DESCRIPTION:This event is an afternoon centered around wellness\, connection\, and community impact. Guests will move through thoughtfully designed activation stations\, enjoy a curated tea room with light bites and sweet treats\, capture moments at photo stations\, and take part in raffles. Click here to purchase tickets. \nSuggested attire: Garden party chic – florals\, soft pastels\, and elevated Spring looks.
URL:https://ourculture.us/event/the-velvet-bloom-tea-a-womens-wellness-fundraiser-at-a-house-in-austin/
LOCATION:A House In Austin\, 533 N PINE AVE\, Chicago\, IL\, 60644\, United States
ATTACH;FMTTYPE=image/png:https://d378omtnmsdn81.cloudfront.net/wp-content/uploads/2026/04/14115015/c8443b71-c3c8-967f-eef9-b18b1929452f.png
END:VEVENT
BEGIN:VEVENT
DTSTART;TZID=America/Chicago:20260505T180000
DTEND;TZID=America/Chicago:20260505T200000
DTSTAMP:20260424T035553
CREATED:20260414T182914Z
LAST-MODIFIED:20260414T182914Z
UID:10004388-1778004000-1778011200@ourculture.us
SUMMARY:Circle for Circle Keepers
DESCRIPTION:Interested in connecting with and getting to know other Circle Keepers? Desire to fine-tune your Circle Keeping skills\, while learning new techniques\, and building resources? Light refreshments to be served. For more information and to RSVP\, contact Edwina Hamilton edwinahamilton@buildchicago.org or 773.227.2880
URL:https://ourculture.us/event/circle-for-circle-keepers/2026-05-05/
LOCATION:BUILD Chicago\, 5100 W. Harrison St.\, Chicago\, IL\, United States
ATTACH;FMTTYPE=image/png:https://d378omtnmsdn81.cloudfront.net/wp-content/uploads/2026/04/14132640/Screenshot-2026-04-14-123522.png
END:VEVENT
BEGIN:VEVENT
DTSTART;TZID=America/Chicago:20260523T130000
DTEND;TZID=America/Chicago:20260523T190000
DTSTAMP:20260424T035553
CREATED:20260415T155658Z
LAST-MODIFIED:20260415T155658Z
UID:10004450-1779541200-1779562800@ourculture.us
SUMMARY:18th Annual Anti-Gun Violence Prayer Vigil
DESCRIPTION:Fresh Start Fathers\, The Columbus Park Advisory Council Community Partners & Sponsors Present…18th Annual Anti-Gun Violence Prayer Vigil
URL:https://ourculture.us/event/18th-annual-anti-gun-violence-prayer-vigil/
LOCATION:Columbus Park\, 500 S. Central Ave.\, Chicago\, IL\, United States
ATTACH;FMTTYPE=image/png:https://d378omtnmsdn81.cloudfront.net/wp-content/uploads/2026/04/15105554/6ebf0d44-d009-4615-a853-0fb4f8258414.png
END:VEVENT
END:VCALENDAR